Package: ITALICS Version: 2.64.0 Command: /Library/Frameworks/R.framework/Resources/bin/R CMD check --install=check:ITALICS.install-out.txt --library=/Library/Frameworks/R.framework/Resources/library --no-vignettes --timings ITALICS_2.64.0.tar.gz StartedAt: 2024-10-18 01:47:28 -0400 (Fri, 18 Oct 2024) EndedAt: 2024-10-18 01:51:04 -0400 (Fri, 18 Oct 2024) EllapsedTime: 216.0 seconds RetCode: 0 Status: OK CheckDir: ITALICS.Rcheck Warnings: 0