Package: ITALICS Version: 2.64.0 Command: /Library/Frameworks/R.framework/Resources/bin/R CMD INSTALL ITALICS StartedAt: 2024-10-16 16:13:32 -0400 (Wed, 16 Oct 2024) EndedAt: 2024-10-16 16:14:02 -0400 (Wed, 16 Oct 2024) EllapsedTime: 30.2 seconds RetCode: 0 Status: OK