Package: ITALICS Version: 2.64.0 Command: rm -rf ITALICS.buildbin-libdir && mkdir ITALICS.buildbin-libdir && F:\biocbuild\bbs-3.19-bioc\R\bin\R.exe CMD INSTALL --build --library=ITALICS.buildbin-libdir ITALICS_2.64.0.tar.gz StartedAt: 2024-06-27 08:24:22 -0400 (Thu, 27 Jun 2024) EndedAt: 2024-06-27 08:25:00 -0400 (Thu, 27 Jun 2024) EllapsedTime: 38.2 seconds RetCode: 0 Status: OK PackageFile: ITALICS_2.64.0.zip PackageFileSize: 414.5 KiB