Package: ITALICS Version: 2.64.0 Command: F:\biocbuild\bbs-3.19-bioc\R\bin\R.exe CMD check --no-multiarch --install=check:ITALICS.install-out.txt --library=F:\biocbuild\bbs-3.19-bioc\R\library --no-vignettes --timings ITALICS_2.64.0.tar.gz StartedAt: 2024-06-27 02:56:42 -0400 (Thu, 27 Jun 2024) EndedAt: 2024-06-27 03:00:14 -0400 (Thu, 27 Jun 2024) EllapsedTime: 211.6 seconds RetCode: 0 Status: OK CheckDir: ITALICS.Rcheck Warnings: 0