Package: ITALICS Version: 2.64.0 Command: E:\biocbuild\bbs-3.19-bioc\R\bin\R.exe CMD INSTALL ITALICS StartedAt: 2024-10-16 16:22:16 -0400 (Wed, 16 Oct 2024) EndedAt: 2024-10-16 16:22:46 -0400 (Wed, 16 Oct 2024) EllapsedTime: 30.7 seconds RetCode: 0 Status: OK