Package: IWTomics Version: 1.28.0 Command: /Library/Frameworks/R.framework/Resources/bin/R CMD check --install=check:IWTomics.install-out.txt --library=/Library/Frameworks/R.framework/Resources/library --no-vignettes --timings IWTomics_1.28.0.tar.gz StartedAt: 2024-06-10 19:49:49 -0400 (Mon, 10 Jun 2024) EndedAt: 2024-06-10 19:56:11 -0400 (Mon, 10 Jun 2024) EllapsedTime: 382.3 seconds RetCode: 0 Status: WARNINGS CheckDir: IWTomics.Rcheck Warnings: 1