Package: IWTomics Version: 1.28.0 Command: /home/biocbuild/R/R-beta-2024-04-15_r86425/bin/R CMD build --keep-empty-dirs --no-resave-data IWTomics StartedAt: 2024-05-09 01:12:49 -0000 (Thu, 09 May 2024) EndedAt: 2024-05-09 01:15:41 -0000 (Thu, 09 May 2024) EllapsedTime: 172.2 seconds RetCode: 0 Status: OK PackageFile: IWTomics_1.28.0.tar.gz PackageFileSize: 1.386 MiB