Package: IWTomics Version: 1.28.0 Command: F:\biocbuild\bbs-3.19-bioc\R\bin\R.exe CMD check --no-multiarch --install=check:IWTomics.install-out.txt --library=F:\biocbuild\bbs-3.19-bioc\R\library --no-vignettes --timings IWTomics_1.28.0.tar.gz StartedAt: 2024-06-27 02:57:58 -0400 (Thu, 27 Jun 2024) EndedAt: 2024-06-27 03:02:08 -0400 (Thu, 27 Jun 2024) EllapsedTime: 249.7 seconds RetCode: 0 Status: WARNINGS CheckDir: IWTomics.Rcheck Warnings: 1