Package: IdeoViz Version: 1.40.0 Command: /home/biocbuild/R/R-beta-2024-04-15_r86425/bin/R CMD build --keep-empty-dirs --no-resave-data IdeoViz StartedAt: 2024-05-09 01:02:29 -0000 (Thu, 09 May 2024) EndedAt: 2024-05-09 01:02:30 -0000 (Thu, 09 May 2024) EllapsedTime: 1.0 seconds RetCode: 0 Status: OK PackageFile: IdeoViz_1.40.0.tar.gz PackageFileSize: 411.8 KiB