Package: IdeoViz Version: 1.40.0 Command: /home/biocbuild/R/R-beta-2024-04-15_r86425/bin/R CMD check --install=check:IdeoViz.install-out.txt --library=/home/biocbuild/R/R-beta-2024-04-15_r86425/site-library --no-vignettes --timings IdeoViz_1.40.0.tar.gz StartedAt: 2024-05-09 08:29:09 -0000 (Thu, 09 May 2024) EndedAt: 2024-05-09 08:32:12 -0000 (Thu, 09 May 2024) EllapsedTime: 183.4 seconds RetCode: 0 Status: WARNINGS CheckDir: IdeoViz.Rcheck Warnings: 2