Package: IdeoViz Version: 1.40.0 Command: /Library/Frameworks/R.framework/Resources/bin/R CMD build --keep-empty-dirs --no-resave-data IdeoViz StartedAt: 2024-10-16 20:06:54 -0400 (Wed, 16 Oct 2024) EndedAt: 2024-10-16 20:06:56 -0400 (Wed, 16 Oct 2024) EllapsedTime: 2.2 seconds RetCode: 0 Status: OK PackageFile: IdeoViz_1.40.0.tar.gz PackageFileSize: 411.8 KiB