Package: IdeoViz Version: 1.40.0 Command: /Library/Frameworks/R.framework/Resources/bin/R CMD check --install=check:IdeoViz.install-out.txt --library=/Library/Frameworks/R.framework/Resources/library --no-vignettes --timings IdeoViz_1.40.0.tar.gz StartedAt: 2024-10-17 06:53:07 -0400 (Thu, 17 Oct 2024) EndedAt: 2024-10-17 06:57:17 -0400 (Thu, 17 Oct 2024) EllapsedTime: 249.4 seconds RetCode: 0 Status: WARNINGS CheckDir: IdeoViz.Rcheck Warnings: 2