Package: IdeoViz Version: 1.40.0 Command: /home/biocbuild/bbs-3.19-bioc/R/bin/R CMD build --keep-empty-dirs --no-resave-data IdeoViz StartedAt: 2024-10-16 19:01:34 -0400 (Wed, 16 Oct 2024) EndedAt: 2024-10-16 19:01:35 -0400 (Wed, 16 Oct 2024) EllapsedTime: 1.0 seconds RetCode: 0 Status: OK PackageFile: IdeoViz_1.40.0.tar.gz PackageFileSize: 411.8 KiB