Package: IdeoViz Version: 1.40.0 Command: rm -rf IdeoViz.buildbin-libdir && mkdir IdeoViz.buildbin-libdir && F:\biocbuild\bbs-3.19-bioc\R\bin\R.exe CMD INSTALL --build --library=IdeoViz.buildbin-libdir IdeoViz_1.40.0.tar.gz StartedAt: 2024-06-27 08:22:17 -0400 (Thu, 27 Jun 2024) EndedAt: 2024-06-27 08:23:04 -0400 (Thu, 27 Jun 2024) EllapsedTime: 47.2 seconds RetCode: 0 Status: OK PackageFile: IdeoViz_1.40.0.zip PackageFileSize: 452.2 KiB