Package: IdeoViz Version: 1.40.0 Command: chmod a+r IdeoViz -R && F:\biocbuild\bbs-3.19-bioc\R\bin\R.exe CMD build --keep-empty-dirs --no-resave-data IdeoViz StartedAt: 2024-06-26 19:32:00 -0400 (Wed, 26 Jun 2024) EndedAt: 2024-06-26 19:32:02 -0400 (Wed, 26 Jun 2024) EllapsedTime: 2.0 seconds RetCode: 0 Status: OK PackageFile: IdeoViz_1.40.0.tar.gz PackageFileSize: 411.7 KiB