Package: IdeoViz Version: 1.40.0 Command: rm -rf IdeoViz.buildbin-libdir && mkdir IdeoViz.buildbin-libdir && E:\biocbuild\bbs-3.19-bioc\R\bin\R.exe CMD INSTALL --build --library=IdeoViz.buildbin-libdir IdeoViz_1.40.0.tar.gz StartedAt: 2024-10-17 07:58:47 -0400 (Thu, 17 Oct 2024) EndedAt: 2024-10-17 07:59:22 -0400 (Thu, 17 Oct 2024) EllapsedTime: 34.5 seconds RetCode: 0 Status: OK PackageFile: IdeoViz_1.40.0.zip PackageFileSize: 452.4 KiB