Package: InPAS Version: 2.12.0 Command: /Library/Frameworks/R.framework/Resources/bin/R CMD check --install=check:InPAS.install-out.txt --library=/Library/Frameworks/R.framework/Resources/library --no-vignettes --timings InPAS_2.12.0.tar.gz StartedAt: 2024-06-10 19:15:30 -0400 (Mon, 10 Jun 2024) EndedAt: 2024-06-10 19:27:30 -0400 (Mon, 10 Jun 2024) EllapsedTime: 719.5 seconds RetCode: 0 Status: WARNINGS CheckDir: InPAS.Rcheck Warnings: 1