Package: InPAS Version: 2.12.0 Command: /home/biocbuild/bbs-3.19-bioc/R/bin/R CMD build --keep-empty-dirs --no-resave-data InPAS StartedAt: 2024-10-16 19:04:24 -0400 (Wed, 16 Oct 2024) EndedAt: 2024-10-16 19:07:06 -0400 (Wed, 16 Oct 2024) EllapsedTime: 162.3 seconds RetCode: 0 Status: OK PackageFile: InPAS_2.12.0.tar.gz PackageFileSize: 1.418 MiB