Package: InPAS Version: 2.12.0 Command: F:\biocbuild\bbs-3.19-bioc\R\bin\R.exe CMD INSTALL InPAS StartedAt: 2024-06-26 16:13:54 -0400 (Wed, 26 Jun 2024) EndedAt: 2024-06-26 16:15:02 -0400 (Wed, 26 Jun 2024) EllapsedTime: 67.9 seconds RetCode: 0 Status: OK