Package: IntOMICS Version: 1.4.0 Command: chmod a+r IntOMICS -R && F:\biocbuild\bbs-3.19-bioc\R\bin\R.exe CMD build --keep-empty-dirs --no-resave-data IntOMICS StartedAt: 2024-06-26 19:37:26 -0400 (Wed, 26 Jun 2024) EndedAt: 2024-06-26 19:38:14 -0400 (Wed, 26 Jun 2024) EllapsedTime: 48.2 seconds RetCode: 1 Status: ERROR PackageFile: None PackageFileSize: NA