Package: InterCellar Version: 2.10.0 Command: rm -rf InterCellar.buildbin-libdir && mkdir InterCellar.buildbin-libdir && /Users/biocbuild/BBS/utils/build-universal.sh InterCellar_2.10.0.tar.gz /Library/Frameworks/R.framework/Resources/bin/R InterCellar.buildbin-libdir StartedAt: 2024-10-18 19:02:36 -0400 (Fri, 18 Oct 2024) EndedAt: 2024-10-18 19:03:17 -0400 (Fri, 18 Oct 2024) EllapsedTime: 40.8 seconds RetCode: 0 Status: OK PackageFile: InterCellar_2.10.0.tgz PackageFileSize: 3.172 MiB