Package: InterCellar Version: 2.10.0 Command: /home/biocbuild/R/R-beta-2024-04-15_r86425/bin/R CMD build --keep-empty-dirs --no-resave-data InterCellar StartedAt: 2024-05-09 01:08:06 -0000 (Thu, 09 May 2024) EndedAt: 2024-05-09 01:08:58 -0000 (Thu, 09 May 2024) EllapsedTime: 52.1 seconds RetCode: 0 Status: OK PackageFile: InterCellar_2.10.0.tar.gz PackageFileSize: 4.078 MiB