Package: InterCellar Version: 2.10.0 Command: /home/biocbuild/R/R-beta-2024-04-15_r86425/bin/R CMD check --install=check:InterCellar.install-out.txt --library=/home/biocbuild/R/R-beta-2024-04-15_r86425/site-library --no-vignettes --timings InterCellar_2.10.0.tar.gz StartedAt: 2024-05-09 08:37:30 -0000 (Thu, 09 May 2024) EndedAt: 2024-05-09 08:41:06 -0000 (Thu, 09 May 2024) EllapsedTime: 215.3 seconds RetCode: 0 Status: OK CheckDir: InterCellar.Rcheck Warnings: 0