Package: InterMineR Version: 1.26.0 Command: /Library/Frameworks/R.framework/Resources/bin/R CMD check --install=check:InterMineR.install-out.txt --library=/Library/Frameworks/R.framework/Resources/library --no-vignettes --timings InterMineR_1.26.0.tar.gz StartedAt: 2024-06-10 19:25:39 -0400 (Mon, 10 Jun 2024) EndedAt: 2024-06-10 19:32:21 -0400 (Mon, 10 Jun 2024) EllapsedTime: 402.1 seconds RetCode: 0 Status: WARNINGS CheckDir: InterMineR.Rcheck Warnings: 6