Package: InterMineR Version: 1.26.0 Command: /Library/Frameworks/R.framework/Resources/bin/R CMD build --keep-empty-dirs --no-resave-data InterMineR StartedAt: 2024-10-16 20:13:26 -0400 (Wed, 16 Oct 2024) EndedAt: 2024-10-16 20:15:51 -0400 (Wed, 16 Oct 2024) EllapsedTime: 145.0 seconds RetCode: 0 Status: OK PackageFile: InterMineR_1.26.0.tar.gz PackageFileSize: 4.918 MiB