Package: InterMineR Version: 1.26.0 Command: rm -rf InterMineR.buildbin-libdir && mkdir InterMineR.buildbin-libdir && F:\biocbuild\bbs-3.19-bioc\R\bin\R.exe CMD INSTALL --build --library=InterMineR.buildbin-libdir InterMineR_1.26.0.tar.gz StartedAt: 2024-06-27 08:23:18 -0400 (Thu, 27 Jun 2024) EndedAt: 2024-06-27 08:24:02 -0400 (Thu, 27 Jun 2024) EllapsedTime: 43.2 seconds RetCode: 0 Status: OK PackageFile: InterMineR_1.26.0.zip PackageFileSize: 737.4 KiB