Package: InterMineR Version: 1.26.0 Command: chmod a+r InterMineR -R && E:\biocbuild\bbs-3.19-bioc\R\bin\R.exe CMD build --keep-empty-dirs --no-resave-data InterMineR StartedAt: 2024-10-16 19:51:58 -0400 (Wed, 16 Oct 2024) EndedAt: 2024-10-16 19:53:24 -0400 (Wed, 16 Oct 2024) EllapsedTime: 86.7 seconds RetCode: 0 Status: OK PackageFile: InterMineR_1.26.0.tar.gz PackageFileSize: 4.896 MiB