Package: InteractionSet Version: 1.32.0 Command: /Library/Frameworks/R.framework/Resources/bin/R CMD INSTALL InteractionSet StartedAt: 2024-10-16 15:56:47 -0400 (Wed, 16 Oct 2024) EndedAt: 2024-10-16 15:57:34 -0400 (Wed, 16 Oct 2024) EllapsedTime: 46.6 seconds RetCode: 0 Status: OK