Package: InteractionSet Version: 1.32.0 Command: /Library/Frameworks/R.framework/Resources/bin/R CMD INSTALL InteractionSet StartedAt: 2024-10-16 15:19:29 -0400 (Wed, 16 Oct 2024) EndedAt: 2024-10-16 15:21:08 -0400 (Wed, 16 Oct 2024) EllapsedTime: 99.5 seconds RetCode: 0 Status: OK