Package: InteractionSet Version: 1.32.0 Command: rm -rf InteractionSet.buildbin-libdir && mkdir InteractionSet.buildbin-libdir && E:\biocbuild\bbs-3.19-bioc\R\bin\R.exe CMD INSTALL --build --library=InteractionSet.buildbin-libdir InteractionSet_1.32.0.tar.gz StartedAt: 2024-10-17 07:59:46 -0400 (Thu, 17 Oct 2024) EndedAt: 2024-10-17 08:02:43 -0400 (Thu, 17 Oct 2024) EllapsedTime: 177.5 seconds RetCode: 0 Status: OK PackageFile: InteractionSet_1.32.0.zip PackageFileSize: 1.849 MiB