Package: InteractionSet Version: 1.32.0 Command: E:\biocbuild\bbs-3.19-bioc\R\bin\R.exe CMD INSTALL InteractionSet StartedAt: 2024-10-16 16:20:11 -0400 (Wed, 16 Oct 2024) EndedAt: 2024-10-16 16:21:47 -0400 (Wed, 16 Oct 2024) EllapsedTime: 96.2 seconds RetCode: 0 Status: OK