Package: IntramiRExploreR Version: 1.26.0 Command: rm -rf IntramiRExploreR.buildbin-libdir && mkdir IntramiRExploreR.buildbin-libdir && /Users/biocbuild/BBS/utils/build-universal.sh IntramiRExploreR_1.26.0.tar.gz /Library/Frameworks/R.framework/Resources/bin/R IntramiRExploreR.buildbin-libdir StartedAt: 2024-06-10 00:23:22 -0400 (Mon, 10 Jun 2024) EndedAt: 2024-06-10 00:23:41 -0400 (Mon, 10 Jun 2024) EllapsedTime: 19.1 seconds RetCode: 0 Status: OK PackageFile: IntramiRExploreR_1.26.0.tgz PackageFileSize: 13.09 MiB