Package: IntramiRExploreR Version: 1.26.0 Command: rm -rf IntramiRExploreR.buildbin-libdir && mkdir IntramiRExploreR.buildbin-libdir && F:\biocbuild\bbs-3.19-bioc\R\bin\R.exe CMD INSTALL --build --library=IntramiRExploreR.buildbin-libdir IntramiRExploreR_1.26.0.tar.gz StartedAt: 2024-06-27 08:23:20 -0400 (Thu, 27 Jun 2024) EndedAt: 2024-06-27 08:23:40 -0400 (Thu, 27 Jun 2024) EllapsedTime: 20.1 seconds RetCode: 0 Status: OK PackageFile: IntramiRExploreR_1.26.0.zip PackageFileSize: 13.36 MiB