Package: IsoCorrectoR Version: 1.22.0 Command: rm -rf IsoCorrectoR.buildbin-libdir && mkdir IsoCorrectoR.buildbin-libdir && F:\biocbuild\bbs-3.19-bioc\R\bin\R.exe CMD INSTALL --build --library=IsoCorrectoR.buildbin-libdir IsoCorrectoR_1.22.0.tar.gz StartedAt: 2024-06-27 08:24:05 -0400 (Thu, 27 Jun 2024) EndedAt: 2024-06-27 08:24:29 -0400 (Thu, 27 Jun 2024) EllapsedTime: 23.8 seconds RetCode: 0 Status: OK PackageFile: IsoCorrectoR_1.22.0.zip PackageFileSize: 2.089 MiB