Package: IsoCorrectoRGUI Version: 1.20.0 Command: rm -rf IsoCorrectoRGUI.buildbin-libdir && mkdir IsoCorrectoRGUI.buildbin-libdir && /Users/biocbuild/BBS/utils/build-universal.sh IsoCorrectoRGUI_1.20.0.tar.gz /Library/Frameworks/R.framework/Resources/bin/R IsoCorrectoRGUI.buildbin-libdir StartedAt: 2024-10-17 16:25:59 -0400 (Thu, 17 Oct 2024) EndedAt: 2024-10-17 16:26:29 -0400 (Thu, 17 Oct 2024) EllapsedTime: 29.5 seconds RetCode: 0 Status: OK PackageFile: IsoCorrectoRGUI_1.20.0.tgz PackageFileSize: 455.4 KiB