Package: IsoCorrectoRGUI Version: 1.20.0 Command: /home/biocbuild/bbs-3.19-bioc/R/bin/R CMD build --keep-empty-dirs --no-resave-data IsoCorrectoRGUI StartedAt: 2024-10-16 19:08:28 -0400 (Wed, 16 Oct 2024) EndedAt: 2024-10-16 19:08:36 -0400 (Wed, 16 Oct 2024) EllapsedTime: 8.0 seconds RetCode: 0 Status: OK PackageFile: IsoCorrectoRGUI_1.20.0.tar.gz PackageFileSize: 439 KiB