Package: IsoformSwitchAnalyzeR Version: 2.4.0 Command: /Library/Frameworks/R.framework/Resources/bin/R CMD build --keep-empty-dirs --no-resave-data IsoformSwitchAnalyzeR StartedAt: 2024-10-16 20:18:43 -0400 (Wed, 16 Oct 2024) EndedAt: 2024-10-16 20:27:06 -0400 (Wed, 16 Oct 2024) EllapsedTime: 503.4 seconds RetCode: 0 Status: OK PackageFile: IsoformSwitchAnalyzeR_2.4.0.tar.gz PackageFileSize: 6.593 MiB