Package: IsoformSwitchAnalyzeR Version: 2.4.0 Command: /Library/Frameworks/R.framework/Resources/bin/R CMD INSTALL IsoformSwitchAnalyzeR StartedAt: 2024-10-16 16:29:33 -0400 (Wed, 16 Oct 2024) EndedAt: 2024-10-16 16:32:07 -0400 (Wed, 16 Oct 2024) EllapsedTime: 153.3 seconds RetCode: 0 Status: OK