Package: IsoformSwitchAnalyzeR Version: 2.4.0 Command: rm -rf IsoformSwitchAnalyzeR.buildbin-libdir && mkdir IsoformSwitchAnalyzeR.buildbin-libdir && E:\biocbuild\bbs-3.19-bioc\R\bin\R.exe CMD INSTALL --build --library=IsoformSwitchAnalyzeR.buildbin-libdir IsoformSwitchAnalyzeR_2.4.0.tar.gz StartedAt: 2024-10-17 08:01:08 -0400 (Thu, 17 Oct 2024) EndedAt: 2024-10-17 08:06:24 -0400 (Thu, 17 Oct 2024) EllapsedTime: 315.5 seconds RetCode: 0 Status: OK PackageFile: IsoformSwitchAnalyzeR_2.4.0.zip PackageFileSize: 5.256 MiB