Package: IsoformSwitchAnalyzeR Version: 2.4.0 Command: E:\biocbuild\bbs-3.19-bioc\R\bin\R.exe CMD INSTALL IsoformSwitchAnalyzeR StartedAt: 2024-10-16 17:05:49 -0400 (Wed, 16 Oct 2024) EndedAt: 2024-10-16 17:08:13 -0400 (Wed, 16 Oct 2024) EllapsedTime: 143.5 seconds RetCode: 0 Status: OK