Package: KBoost Version: 1.12.0 Command: rm -rf KBoost.buildbin-libdir && mkdir KBoost.buildbin-libdir && /Users/biocbuild/BBS/utils/build-universal.sh KBoost_1.12.0.tar.gz /Library/Frameworks/R.framework/Resources/bin/R KBoost.buildbin-libdir StartedAt: 2024-10-18 19:07:18 -0400 (Fri, 18 Oct 2024) EndedAt: 2024-10-18 19:07:23 -0400 (Fri, 18 Oct 2024) EllapsedTime: 5.6 seconds RetCode: 0 Status: OK PackageFile: KBoost_1.12.0.tgz PackageFileSize: 576.5 KiB