Package: KBoost Version: 1.12.0 Command: /home/biocbuild/R/R-beta-2024-04-15_r86425/bin/R CMD INSTALL KBoost StartedAt: 2024-05-08 20:02:22 -0000 (Wed, 08 May 2024) EndedAt: 2024-05-08 20:02:37 -0000 (Wed, 08 May 2024) EllapsedTime: 15.7 seconds RetCode: 0 Status: OK