Package: KBoost Version: 1.12.0 Command: rm -rf KBoost.buildbin-libdir && mkdir KBoost.buildbin-libdir && /Users/biocbuild/BBS/utils/build-universal.sh KBoost_1.12.0.tar.gz /Library/Frameworks/R.framework/Resources/bin/R KBoost.buildbin-libdir StartedAt: 2024-06-10 00:24:08 -0400 (Mon, 10 Jun 2024) EndedAt: 2024-06-10 00:24:14 -0400 (Mon, 10 Jun 2024) EllapsedTime: 5.5 seconds RetCode: 0 Status: OK PackageFile: KBoost_1.12.0.tgz PackageFileSize: 575.7 KiB