Package: KBoost Version: 1.12.0 Command: /Library/Frameworks/R.framework/Resources/bin/R CMD check --install=check:KBoost.install-out.txt --library=/Library/Frameworks/R.framework/Resources/library --no-vignettes --timings KBoost_1.12.0.tar.gz StartedAt: 2024-06-09 21:08:46 -0400 (Sun, 09 Jun 2024) EndedAt: 2024-06-09 21:09:36 -0400 (Sun, 09 Jun 2024) EllapsedTime: 49.9 seconds RetCode: 0 Status: OK CheckDir: KBoost.Rcheck Warnings: 0