Package: KBoost Version: 1.12.0 Command: /Library/Frameworks/R.framework/Resources/bin/R CMD build --keep-empty-dirs --no-resave-data KBoost StartedAt: 2024-10-16 20:20:29 -0400 (Wed, 16 Oct 2024) EndedAt: 2024-10-16 20:20:51 -0400 (Wed, 16 Oct 2024) EllapsedTime: 21.7 seconds RetCode: 0 Status: OK PackageFile: KBoost_1.12.0.tar.gz PackageFileSize: 503.9 KiB