Package: KBoost Version: 1.12.0 Command: /home/biocbuild/bbs-3.19-bioc/R/bin/R CMD build --keep-empty-dirs --no-resave-data KBoost StartedAt: 2024-10-16 19:09:37 -0400 (Wed, 16 Oct 2024) EndedAt: 2024-10-16 19:09:44 -0400 (Wed, 16 Oct 2024) EllapsedTime: 7.0 seconds RetCode: 0 Status: OK PackageFile: KBoost_1.12.0.tar.gz PackageFileSize: 503.9 KiB