Package: KBoost Version: 1.12.0 Command: rm -rf KBoost.buildbin-libdir && mkdir KBoost.buildbin-libdir && F:\biocbuild\bbs-3.19-bioc\R\bin\R.exe CMD INSTALL --build --library=KBoost.buildbin-libdir KBoost_1.12.0.tar.gz StartedAt: 2024-06-27 08:24:41 -0400 (Thu, 27 Jun 2024) EndedAt: 2024-06-27 08:24:56 -0400 (Thu, 27 Jun 2024) EllapsedTime: 15.2 seconds RetCode: 0 Status: OK PackageFile: KBoost_1.12.0.zip PackageFileSize: 582.1 KiB