Package: KBoost Version: 1.12.0 Command: rm -rf KBoost.buildbin-libdir && mkdir KBoost.buildbin-libdir && E:\biocbuild\bbs-3.19-bioc\R\bin\R.exe CMD INSTALL --build --library=KBoost.buildbin-libdir KBoost_1.12.0.tar.gz StartedAt: 2024-10-17 08:01:34 -0400 (Thu, 17 Oct 2024) EndedAt: 2024-10-17 08:01:54 -0400 (Thu, 17 Oct 2024) EllapsedTime: 20.1 seconds RetCode: 0 Status: OK PackageFile: KBoost_1.12.0.zip PackageFileSize: 582.8 KiB