Package: KBoost Version: 1.12.0 Command: chmod a+r KBoost -R && E:\biocbuild\bbs-3.19-bioc\R\bin\R.exe CMD build --keep-empty-dirs --no-resave-data KBoost StartedAt: 2024-10-16 19:56:49 -0400 (Wed, 16 Oct 2024) EndedAt: 2024-10-16 19:57:03 -0400 (Wed, 16 Oct 2024) EllapsedTime: 14.2 seconds RetCode: 0 Status: OK PackageFile: KBoost_1.12.0.tar.gz PackageFileSize: 503.9 KiB