Package: KCsmart Version: 2.62.0 Command: rm -rf KCsmart.buildbin-libdir && mkdir KCsmart.buildbin-libdir && /Users/biocbuild/BBS/utils/build-universal.sh KCsmart_2.62.0.tar.gz /Library/Frameworks/R.framework/Resources/bin/R KCsmart.buildbin-libdir StartedAt: 2024-10-17 16:27:22 -0400 (Thu, 17 Oct 2024) EndedAt: 2024-10-17 16:27:50 -0400 (Thu, 17 Oct 2024) EllapsedTime: 27.2 seconds RetCode: 0 Status: OK PackageFile: KCsmart_2.62.0.tgz PackageFileSize: 2.197 MiB